BEGIN:VCALENDAR
PRODID:-//eluceo/ical//2.0/EN
VERSION:2.0
CALSCALE:GREGORIAN
BEGIN:VEVENT
UID:event-121
DTSTAMP:20260421T102319Z
SUMMARY:NatSaab 2022
DESCRIPTION:--- aanmelden is niet meer mogelijk --- het maximaal aantal bez
 oekers en auto's dat op het terrein aanwezig kan zijn\, is bereikt ---   
 De allereerste editie van NatSaab gaat de eerste zaterdag van juli plaatsv
 inden. De bedoeling van het evenement is mensen in Nederland met een passi
 e voor het merk Saab bijeen te brengen\, ze in een gemoedelijke Brabantse 
 sfeer de mogelijkheid bieden elkaar (beter) te leren kennen en ervaringen 
 uit te wisselen\, en te laten zien wat de regio Noord-Brabant op Saab gebi
 ed zoal in huis heeft. Hiervoor hebben we een prachtige locatie gevonden: 
 museum de Bevrijdende Vleugels in Best. Het terrein van het museum biedt r
 uim voldoende plaats voor de auto’s van alle bezoekers\, een kofferbakve
 rkoop\, workshops\, en plekken waar Saab-bedrijven en particulieren zich z
 ullen presenteren aan het publiek. Daarnaast is er een zaal waar gedurende
  de dag een aantal interessante lezingen gegeven zullen worden. Voor de ko
 fferbakverkoop geldt dat iedere bezoeker Saab items mag meenemen om te ver
 kopen\, zolang deze items in één auto passen. Het is niet de toegestaan 
 om met een aanhanger of vrachtwagen vol items te komen. Het is 25 jaar gel
 eden dat Saab de 9-5 introduceerde. Dit vinden wij een mooie aanleiding om
  speciale aandacht aan dit model te geven. Daarom zetten we verschillende 
 modellen en bouwjaren van OG9-5’s bij elkaar. Hiertoe nodigen we deelnem
 ers aan NatSaab uit om te melden of ze met hun OG9-5 (o.v.v. model (sedan/
 estate) en bouwjaar) op deze speciale plek willen staan. Daarnaast zullen 
 er interessante Saabs te zien zijn tijdens het concours\, waar je zelf met
  je auto aan kan deelnemen. Deelnemers met hun auto zullen wedijveren om d
 e ereplaats in verschillende categorieën. Aanmelden voor een van de categ
 orieën kan de dag zelf. Aangezien we in Noord-Brabant ons natje en droogj
 e lusten\, zal er uiteraard een foodtruck zijn\, een barista\, een wijnbar
  en biertap. Voor een vrolijke noot gedurende de dag zorgen een jazzorkest
 je en een coverbandje. Kinderen kunnen gebruik maken van de speeltuin van 
 het museum. Het museum zelf is voor bezoekers van NatSaab gratis toegankel
 ijk. Museum Bevrijdende Vleugels ligt in het gebied waar op 17 september 1
 944 luchtlandingen plaatsvonden tijdens operatie Market Garden. De collect
 ie van het museum omvat rupsvoertuigen\, vliegtuigen\, diorama's\, foto's 
 en wapentuig dat daadwerkelijk is gebruikt tijdens deze operatie. In de ve
 rschillende hallen worden de bezetting\, de onderdrukking en de uiteindeli
 jke bevrijding van Nederland uitvoerig belicht. Kortom\, er is van alles t
 e zien en te doen\, genoeg gelegenheid om bij te praten met bekenden en ni
 euwe contacten te leggen\, en dat alles in een prachtige omgeving in een o
 ntspannen sfeer. Hiervoor betalen leden van de SCN slechts €12\,50 pp\, 
 niet-leden €17\,50. Kinderen t/m 16 jaar hebben gratis toegang. (partner
 s en inwonende kinderen van leden worden beschouwd als leden) Hiervoor kri
 jg je toegang tot het evenement en het museum\, een bon voor een worstenbr
 oodje (wat had je anders verwacht in Noord-Brabant)\, een bon voor een kop
  koffie of thee\, en een bon voor een drankje.   De inschrijving is vanaf
  heden geopend! Met vriendelijke groet\, Regio Noord-Brabant
DTSTART:20220702T080000Z
DTEND:20220702T150000Z
LOCATION:Museum Bevrijdende Vleugels
END:VEVENT
BEGIN:VTIMEZONE
TZID:UTC
BEGIN:STANDARD
DTSTART:20220702T080000
TZNAME:UTC
TZOFFSETTO:+0000
TZOFFSETFROM:+0000
END:STANDARD
END:VTIMEZONE
END:VCALENDAR
