BEGIN:VCALENDAR
PRODID:-//eluceo/ical//2.0/EN
VERSION:2.0
CALSCALE:GREGORIAN
BEGIN:VEVENT
UID:event-137
DTSTAMP:20260424T122314Z
SUMMARY:Modelgeschiedenis SAAB
DESCRIPTION:SAAB heeft in zijn geschiedenis veel verschillende modellen ont
 worpen. Al jarenlang verzorgen Clément\, Ton en Johan ieder jaar in oktob
 er een presentatie over de modelgeschiedenis van één bepaald type SAAB. 
 Dit jaar nemen ze ons mee in een interessante multimedia-show langs de SAA
 B 99. Dat was het model dat er voor zorgde dat het automerk SAAB eind jare
 n 60 in één klap weer helemaal bij de tijd was en in de jaren 70 de auto
 wereld versteld deed staan met de SAAB 99 Turbo. Geïnteresseerd in deze m
 ijlpaal uit de rijke SAAB-geschiedenis? Kom dan naar: BMV Spaubeek Mussche
 nberg 26 6176 BD  Spaubeek dinsdag 25 oktober 2022 20.00 uur Heb je zelf 
 een SAAB 99? Kom daar dan mee naar Spaubeek\, dan ontstaat er vanzelf een 
 mooie modelgeschiedenis van de 99 op de P-plaats!
DTSTART:20221025T170000Z
DTEND:20221025T200000Z
END:VEVENT
BEGIN:VTIMEZONE
TZID:UTC
BEGIN:STANDARD
DTSTART:20221025T170000
TZNAME:UTC
TZOFFSETTO:+0000
TZOFFSETFROM:+0000
END:STANDARD
END:VTIMEZONE
END:VCALENDAR
