BEGIN:VCALENDAR
PRODID:-//eluceo/ical//2.0/EN
VERSION:2.0
CALSCALE:GREGORIAN
BEGIN:VEVENT
UID:event-143
DTSTAMP:20260422T092445Z
SUMMARY:Regioavond Noord-Holland - afgelast
DESCRIPTION:Beste Saabvrienden\, Op donderdag 15 december hebben we alweer 
 onze laatste regioavond van dit jaar in De Gallery of Dreams te Westzaan.
  We willen dat doen met het vertonen van een 25 minuten durende documenta
 ire Thunder over de ontwikkeling van de Saab 900 classic. Deze documentair
 e 'Thunder\, over Bjorn Envall\, de godfather van de Saab 900' mag als een
  groot succes gezien worden. 'Een mooi menselijk beeld over Saab' en 'Een 
 sfeervol document over een auto-tijdperk waarin auto's nog met gevoel en z
 onder winstoogmerk werden gemaakt' waren enkele opmerkingen die de spijker
  op z'n kop sloegen. Verder hebben we nog beelden uit de oude Saabdoos dus
  het beloofd weer een gezellige avond te worden! Om deze avond qua kosten
  verantwoord door te kunnen laten gaan\, hebben we minimaal 15 deelnemers 
 nodig.  Aanmelden is mogelijk via de e-mail regionoordholland@saabclub.nl
  Inloop vanaf 19 uur. Het programma start om 19.30 uur. Tot 14 december bi
 j de Gallery of Dreams\, J.J. Allanstraat 283\, 1551 RG Westzaan. Opmerkin
 g van HH aard: U kunt uw consumptie alleen contant afrekenen bij onze gast
 vouw Cora.
DTSTART:20221215T180000Z
DTEND:20221215T210000Z
END:VEVENT
BEGIN:VTIMEZONE
TZID:UTC
BEGIN:STANDARD
DTSTART:20221215T180000
TZNAME:UTC
TZOFFSETTO:+0000
TZOFFSETFROM:+0000
END:STANDARD
END:VTIMEZONE
END:VCALENDAR
