BEGIN:VCALENDAR
PRODID:-//eluceo/ical//2.0/EN
VERSION:2.0
CALSCALE:GREGORIAN
BEGIN:VEVENT
UID:event-276
DTSTAMP:20260423T022419Z
SUMMARY:Regio Noord-Brabant: Bezoek Haaima en gallery Aaldering
DESCRIPTION:Aanmelden is niet meer mogelijk in verband met het maximaal aan
 tal deelnemers!!   Op zaterdag 3 juni kun je meedoen aan een rit naar Sa
 ab specialisten Peter &amp\; Laurens Haaima in Barneveld waar we kennis ku
 nnen maken met dit interessante autobedrijf. Haaima voert al jarenlang moo
 ie (vooral) classic 900 restauratie projecten uit. Na het bezoek aan Haaim
 a rijden we door naar Gallery Aaldering in Brummen waar we starten met een
  lunch in het grand café van Aaldering. Daarna kunnen we door dit bijzond
 ere pand zwerven om ons te vergapen aan de bijzondere auto collectie. Het 
 lijkt ons weer een leuk uitstapje met onze club.  Programma (onder licht 
 voorbehoud) 10:30 uur Aankomst en bezoek aan Haaima Hessenweg 5-A\, 3771
  RB Barneveld 12:00 uur Vertrek naar Gallery Aaldering Arnhemsestraat 47
 \, 6971 AP Brummen 13:00 uur Aankomst en lunch Gallery Aaldering  14:00 
 uur Bezoek Gallery Aaldering 16:00 uur afsluiting (sluitingstijd galerie
 ) Het aantal auto's en daarmee deelnemers is gelimiteerd op 25 auto's resp
 ectievelijk 40 personen.  Inschrijven geschiedt via de website van SaabCl
 ub Nederland (link). Sluitingsdatum inschrijving is 25 mei 2023 of zodra
  het maximale aantal inschrijvingen is bereikt. De kosten: €17\,50 per p
 ersoon voor SCN leden €25\,00 per persoon voor niet SCN leden In deze ko
 sten zijn de entree en de verzorgde lunch bij Aaldering (incl. Koffie/thee
  e.d. inbegrepen). Met vriendelijke groeten\, Besturen SCN Regio Noord Bra
 bant en Regio Oost
DTSTART:20230603T083000Z
DTEND:20230603T140000Z
END:VEVENT
BEGIN:VTIMEZONE
TZID:UTC
BEGIN:STANDARD
DTSTART:20230603T083000
TZNAME:UTC
TZOFFSETTO:+0000
TZOFFSETFROM:+0000
END:STANDARD
END:VTIMEZONE
END:VCALENDAR
