BEGIN:VCALENDAR
PRODID:-//eluceo/ical//2.0/EN
VERSION:2.0
CALSCALE:GREGORIAN
BEGIN:VEVENT
UID:event-355
DTSTAMP:20260421T101525Z
SUMMARY:61e Saab Viking Rally - Vol!
DESCRIPTION:De 61e Saab Viking Rally. Klaar voor de start? Op zaterdag 9 no
 vember 2024 organiseert Saab Club Nederland met hulp van het Dutch Saab Cl
 assic Rallyteam de 61e Saab Viking Rally. De start\, lunch en finish zijn 
 in Maurik\, in de Gelderse Betuwe. De Saab Viking Rally is van oudsher een
  echte kaartleesrally. In de auto draait het dus vooral om een optimale sa
 menwerking tussen bestuurder en navigator. U kunt deelnemen in de Tourklas
 se\, geschikt voor minder ervaren equipes of in de Sportklasse\, voor de e
 chte fanatiekelingen. De Saab Viking Rally telt samen met de Saab Winter R
 ally\, de Saab Zomer Rally en de beide KLK’s mee voor de Erik Carlsson C
 ompetitie. Wedstrijdleider en uitzetter is niemand minder dan Jaap Jongman
  van Stichting RallyControl. Kwaliteit verzekerd dus! Datum: 9 november 
 2024 Start\, lunch en finish: Brasserie aan de Vijver\, Rijnstraat 6\, 4
 021 AK Maurik Start 1e equipe: 10:01 uur Auto’s: Saab only\, alle mode
 llen en leeftijden Aantal km’s: 200+ Aantal etappes: 2 (ochtend- en mi
 ddagetappe) Klassen: Sportklasse voor de meer ervaren equipes &amp\; Toer
 klasse voor beginnende en recreatieve equipes Wedstijdleider en uitzetter:
  Jaap Jongman van Stichting RallyControl Controles: De 61e Saab Viking R
 ally wordt gereden met GPS controles door middel van de bekende RallyCheck
 -app zie ook www.rallycheck.com/nl/ De deelnamekosten bedragen € 220* pe
 r equipe van 2 personen\, inclusief: Ontvangst met koffie/thee en wat lekk
 ers Goede lunch Heerlijk diner in buffetvorm Goodiebag met o.a. twee 61e S
 aab Viking Rally rallyschilden Routeboeken en een uitgebreid uitlegboek na
  afloop Snelle uitslag via de RallyCheck-app Prachtige prijzen en uitreiki
 ng Erik Carlsson Trofee Een geweldige dag met allemaal Saab-vrienden *Lede
 n van Saab Club Nederland ontvangen € 20 korting als minimaal 1 inzitten
 de lid is. Inschrijven De inschrijving is gesloten. De deelnemers vinden d
 e startlijst hier.
DTSTART:20241109T090000Z
DTEND:20241109T190000Z
END:VEVENT
BEGIN:VTIMEZONE
TZID:UTC
BEGIN:STANDARD
DTSTART:20241109T090000
TZNAME:UTC
TZOFFSETTO:+0000
TZOFFSETFROM:+0000
END:STANDARD
END:VTIMEZONE
END:VCALENDAR
